BEGIN:VCALENDAR
PRODID:-//eluceo/ical//2.0/EN
VERSION:2.0
CALSCALE:GREGORIAN
BEGIN:VEVENT
UID:dea86f8278c84730b022865e7c6392ae
DTSTAMP:20260422T082533Z
SUMMARY:EUBCE 2026: PtX Lab Lausitz at the European Biomass Summit
DESCRIPTION:The European Biomass Conference & Exhibition (EUBCE) bridges th
 e gap between science and industry—PtX Lab Lausitz will be on-site to di
 scuss synergies between biomass and Power-to-X.
DTSTART;VALUE=DATE:20260519
DTEND;VALUE=DATE:20260523
LOCATION:Stand 41\nChurchillplein 10 \n2517 JW Den Haag\nNiederlande
END:VEVENT
END:VCALENDAR
